BEGIN:VCALENDAR
VERSION:2.0
PRODID:-//Addington - ECPv6.9.0//NONSGML v1.0//EN
CALSCALE:GREGORIAN
METHOD:PUBLISH
X-WR-CALNAME:Addington
X-ORIGINAL-URL:https://addington.co.uk
X-WR-CALDESC:Events for Addington
REFRESH-INTERVAL;VALUE=DURATION:PT1H
X-Robots-Tag:noindex
X-PUBLISHED-TTL:PT1H
BEGIN:VTIMEZONE
TZID:Europe/London
BEGIN:DAYLIGHT
TZOFFSETFROM:+0000
TZOFFSETTO:+0100
TZNAME:BST
DTSTART:20250330T010000
END:DAYLIGHT
BEGIN:STANDARD
TZOFFSETFROM:+0100
TZOFFSETTO:+0000
TZNAME:GMT
DTSTART:20251026T010000
END:STANDARD
END:VTIMEZONE
BEGIN:VEVENT
DTSTART;TZID=Europe/London:20250202T080000
DTEND;TZID=Europe/London:20250202T170000
DTSTAMP:20260421T093510
CREATED:20241104T152557Z
LAST-MODIFIED:20250201T180620Z
UID:8383-1738483200-1738515600@addington.co.uk
SUMMARY:Addington Equestrian Training Show
DESCRIPTION:Addington Equestrian are holding a training show within British Show jumping’s framework. \nFind the full details for the event linked below: \nSchedule \nEnter Here \nStart Lists \nTerms and Conditions
URL:https://addington.co.uk/event/addington-equestrian-training-show-8/
LOCATION:Addington Equestrian Centre
ATTACH;FMTTYPE=image/jpeg:https://addington.co.uk/wp-content/uploads/2022/10/1O0A7509-scaled.jpg
ORGANIZER;CN="Addington Equestrian":MAILTO:info@showdirect.co.uk
END:VEVENT
BEGIN:VEVENT
DTSTART;TZID=Europe/London:20250208T080000
DTEND;TZID=Europe/London:20250208T170000
DTSTAMP:20260421T093510
CREATED:20250109T185206Z
LAST-MODIFIED:20250116T112255Z
UID:9345-1739001600-1739034000@addington.co.uk
SUMMARY:British Breeding Stallion Showcase
DESCRIPTION:2025 British Breeding Stallion Showcase \nClick HERE to book Hook up\, Shavings and Haylage for the show.
URL:https://addington.co.uk/event/british-breeding-stallion-2/
LOCATION:Addington Equestrian Centre
ATTACH;FMTTYPE=image/jpeg:https://addington.co.uk/wp-content/uploads/2022/11/British-Breeding.jpeg
END:VEVENT
BEGIN:VEVENT
DTSTART;TZID=Europe/London:20250216T080000
DTEND;TZID=Europe/London:20250216T170000
DTSTAMP:20260421T093510
CREATED:20241104T153745Z
LAST-MODIFIED:20250215T173306Z
UID:8385-1739692800-1739725200@addington.co.uk
SUMMARY:Addington Equestrian Training Show
DESCRIPTION:Addington Equestrian are holding a training show within British Show jumping’s framework. \nFind the full details for the event linked below: \nSchedule \nEnter Here \nStart Lists \nTerms and Conditions
URL:https://addington.co.uk/event/addington-equestrian-training-show-9/
LOCATION:Addington Equestrian Centre
ATTACH;FMTTYPE=image/jpeg:https://addington.co.uk/wp-content/uploads/2023/05/1O0A7496-scaled-e1683714396150.jpg
ORGANIZER;CN="Addington Equestrian":MAILTO:info@showdirect.co.uk
END:VEVENT
BEGIN:VEVENT
DTSTART;TZID=Europe/London:20250218T080000
DTEND;TZID=Europe/London:20250218T170000
DTSTAMP:20260421T093510
CREATED:20250210T114302Z
LAST-MODIFIED:20250210T121440Z
UID:9716-1739865600-1739898000@addington.co.uk
SUMMARY:Pony Club Show
DESCRIPTION:
URL:https://addington.co.uk/event/pony-club-show-2/
LOCATION:Addington Equestrian Centre
END:VEVENT
BEGIN:VEVENT
DTSTART;TZID=Europe/London:20250221T080000
DTEND;TZID=Europe/London:20250221T170000
DTSTAMP:20260421T093510
CREATED:20241104T161540Z
LAST-MODIFIED:20250219T205728Z
UID:8397-1740124800-1740157200@addington.co.uk
SUMMARY:British Showjumping 3 Day Show
DESCRIPTION:Addington British Showjumping Competition \nSchedule (entries open 2 weeks prior to the show) \nEnter Here \nStart Lists \nTrade Stand Form \nTerms and Conditions
URL:https://addington.co.uk/event/british-showjumping-3-day-show-34/
ATTACH;FMTTYPE=image/jpeg:https://addington.co.uk/wp-content/uploads/2023/05/1O0A7501-scaled.jpg
END:VEVENT
BEGIN:VEVENT
DTSTART;TZID=Europe/London:20250222T080000
DTEND;TZID=Europe/London:20250222T170000
DTSTAMP:20260421T093510
CREATED:20241104T161641Z
LAST-MODIFIED:20250207T181545Z
UID:8399-1740211200-1740243600@addington.co.uk
SUMMARY:British Showjumping 3 Day Show
DESCRIPTION:Addington British Showjumping Competition \nSchedule (entries open 2 weeks prior to the show) \nEnter Here \nStart Lists \nTrade Stand Form \nTerms and Conditions
URL:https://addington.co.uk/event/british-showjumping-3-day-show-35/
ATTACH;FMTTYPE=image/jpeg:https://addington.co.uk/wp-content/uploads/2023/05/1O0A7501-scaled.jpg
END:VEVENT
BEGIN:VEVENT
DTSTART;TZID=Europe/London:20250223T080000
DTEND;TZID=Europe/London:20250223T170000
DTSTAMP:20260421T093510
CREATED:20241104T161810Z
LAST-MODIFIED:20250207T181637Z
UID:8402-1740297600-1740330000@addington.co.uk
SUMMARY:British Showjumping 3 Day Show
DESCRIPTION:Addington British Showjumping Competition \nSchedule (entries open 2 weeks prior to the show) \nEnter Here \nStart Lists \nTrade Stand Form \nTerms and Conditions
URL:https://addington.co.uk/event/british-showjumping-3-day-show-36/
ATTACH;FMTTYPE=image/jpeg:https://addington.co.uk/wp-content/uploads/2023/05/1O0A7501-scaled.jpg
END:VEVENT
END:VCALENDAR