BEGIN:VCALENDAR
VERSION:2.0
PRODID:-//Addington - ECPv6.9.0//NONSGML v1.0//EN
CALSCALE:GREGORIAN
METHOD:PUBLISH
X-WR-CALNAME:Addington
X-ORIGINAL-URL:https://addington.co.uk
X-WR-CALDESC:Events for Addington
REFRESH-INTERVAL;VALUE=DURATION:PT1H
X-Robots-Tag:noindex
X-PUBLISHED-TTL:PT1H
BEGIN:VTIMEZONE
TZID:Europe/London
BEGIN:DAYLIGHT
TZOFFSETFROM:+0000
TZOFFSETTO:+0100
TZNAME:BST
DTSTART:20250330T010000
END:DAYLIGHT
BEGIN:STANDARD
TZOFFSETFROM:+0100
TZOFFSETTO:+0000
TZNAME:GMT
DTSTART:20251026T010000
END:STANDARD
END:VTIMEZONE
BEGIN:VEVENT
DTSTART;TZID=Europe/London:20250106T083000
DTEND;TZID=Europe/London:20250106T170000
DTSTAMP:20260420T184006
CREATED:20241202T220154Z
LAST-MODIFIED:20241203T150616Z
UID:8863-1736152200-1736182800@addington.co.uk
SUMMARY:F & I Association Course
DESCRIPTION:  \n  \nBookings for Stables\, Shavings and Haylage CLICK HERE 
URL:https://addington.co.uk/event/f-i-association-course-2/
LOCATION:Addington Equestrian Centre
END:VEVENT
BEGIN:VEVENT
DTSTART;TZID=Europe/London:20250107T083000
DTEND;TZID=Europe/London:20250107T170000
DTSTAMP:20260420T184006
CREATED:20241202T220347Z
LAST-MODIFIED:20241203T150706Z
UID:8866-1736238600-1736269200@addington.co.uk
SUMMARY:F & I Association Course
DESCRIPTION:Bookings for Stables\, Hook up\, Haylage and Shavings CLICK HERE
URL:https://addington.co.uk/event/f-i-association-course-3/
LOCATION:Addington Equestrian Centre
END:VEVENT
BEGIN:VEVENT
DTSTART;TZID=Europe/London:20250110T080000
DTEND;TZID=Europe/London:20250110T170000
DTSTAMP:20260420T184006
CREATED:20241104T155527Z
LAST-MODIFIED:20250109T060547Z
UID:8389-1736496000-1736528400@addington.co.uk
SUMMARY:British Showjumping 3 Day Show
DESCRIPTION:Addington British Showjumping Competition \nSchedule \nEnter Here \nStart Lists \nTrade Stand Form \nTerms and Conditions
URL:https://addington.co.uk/event/british-showjumping-3-day-show-19/
LOCATION:Addington Equestrian Centre
ATTACH;FMTTYPE=image/jpeg:https://addington.co.uk/wp-content/uploads/2023/05/1O0A7501-scaled.jpg
ORGANIZER;CN="Addington Equestrian":MAILTO:info@showdirect.co.uk
END:VEVENT
BEGIN:VEVENT
DTSTART;TZID=Europe/London:20250111T080000
DTEND;TZID=Europe/London:20250111T170000
DTSTAMP:20260420T184006
CREATED:20241104T161304Z
LAST-MODIFIED:20250110T171124Z
UID:8392-1736582400-1736614800@addington.co.uk
SUMMARY:British Showjumping 3 Day Show
DESCRIPTION:Addington British Showjumping Competition \nSchedule  \nEnter Here \nStart Lists \nTrade Stand Form \nTerms and Conditions
URL:https://addington.co.uk/event/british-showjumping-3-day-show-32/
LOCATION:Addington Equestrian Centre
ATTACH;FMTTYPE=image/jpeg:https://addington.co.uk/wp-content/uploads/2023/05/1O0A7501-scaled.jpg
ORGANIZER;CN="Addington Equestrian":MAILTO:info@showdirect.co.uk
END:VEVENT
BEGIN:VEVENT
DTSTART;TZID=Europe/London:20250112T080000
DTEND;TZID=Europe/London:20250112T170000
DTSTAMP:20260420T184006
CREATED:20241104T161403Z
LAST-MODIFIED:20250111T175820Z
UID:8394-1736668800-1736701200@addington.co.uk
SUMMARY:British Showjumping 3 Day Show
DESCRIPTION:Addington British Showjumping Competition \nSchedule  \nEnter Here \nStart Lists \nTrade Stand Form \nTerms and Conditions
URL:https://addington.co.uk/event/british-showjumping-3-day-show-33/
LOCATION:Addington Equestrian Centre
ATTACH;FMTTYPE=image/jpeg:https://addington.co.uk/wp-content/uploads/2023/05/1O0A7501-scaled.jpg
ORGANIZER;CN="Addington Equestrian":MAILTO:info@showdirect.co.uk
END:VEVENT
BEGIN:VEVENT
DTSTART;TZID=Europe/London:20250117T080000
DTEND;TZID=Europe/London:20250117T170000
DTSTAMP:20260420T184006
CREATED:20241106T213905Z
LAST-MODIFIED:20250115T130026Z
UID:8442-1737100800-1737133200@addington.co.uk
SUMMARY:Dressage Winter Area Festival
DESCRIPTION:Petplan Winter Area Festival run by Addington Equestrian Centre in partnership with British Dressage. \nFull Schedule \nEnter Here – Please note entries will close on 5th January 2025 \nStart Lists \nInformation for Competitors \n\nVACCINATIONS\n\nAll horses must have had a booster vaccination against Equine Influenza in the PRECEDING 12 MONTHS\, and be 6 days clear of having had any vaccination. Please have your passport available for checking.\n\n\n\n\nSTABLE DEPOSIT.\n\nA £20 stable cash deposit will be required when you arrive. This is to be paid at the Stable Managers office.\nAll stables must be fully emptied before you leave. Stables will then be checked and the £20 deposit will be refunded back to you when you leave. Please empty and sweep clean as we have a tight turnaround for the next show.\n\n\n\n\nFOOD & BEVERAGES \n\nWe are open to the general public throughout the show. Enjoy entry to the event free of charge and make the most of our on-site café\, seating next to our main indoor arena and ample parking.
URL:https://addington.co.uk/event/dressage-winter-area-festival-6/
LOCATION:Addington Equestrian Centre
ATTACH;FMTTYPE=image/webp:https://addington.co.uk/wp-content/uploads/2022/08/shutterstock_2164308045.webp
ORGANIZER;CN="Addington Equestrian":MAILTO:info@showdirect.co.uk
END:VEVENT
BEGIN:VEVENT
DTSTART;TZID=Europe/London:20250118T080000
DTEND;TZID=Europe/London:20250118T170000
DTSTAMP:20260420T184006
CREATED:20241106T214122Z
LAST-MODIFIED:20241106T214122Z
UID:8444-1737187200-1737219600@addington.co.uk
SUMMARY:Dressage Winter Area Festival
DESCRIPTION:Petplan Winter Area Festival run by Addington Equestrian Centre in partnership with British Dressage
URL:https://addington.co.uk/event/dressage-winter-area-festival-7/
LOCATION:Addington Equestrian Centre
ATTACH;FMTTYPE=image/webp:https://addington.co.uk/wp-content/uploads/2022/08/shutterstock_2164308045.webp
ORGANIZER;CN="Addington Equestrian":MAILTO:info@showdirect.co.uk
END:VEVENT
BEGIN:VEVENT
DTSTART;TZID=Europe/London:20250119T080000
DTEND;TZID=Europe/London:20250119T170000
DTSTAMP:20260420T184006
CREATED:20241106T214311Z
LAST-MODIFIED:20241106T214311Z
UID:8446-1737273600-1737306000@addington.co.uk
SUMMARY:Dressage Winter Area Festival
DESCRIPTION:Petplan Winter Area Festival run by Addington Equestrian Centre in partnership with British Dressage
URL:https://addington.co.uk/event/dressage-winter-area-festival-8/
LOCATION:Addington Equestrian Centre
ATTACH;FMTTYPE=image/webp:https://addington.co.uk/wp-content/uploads/2022/08/shutterstock_2164308045.webp
ORGANIZER;CN="Addington Equestrian":MAILTO:info@showdirect.co.uk
END:VEVENT
BEGIN:VEVENT
DTSTART;TZID=Europe/London:20250122T080000
DTEND;TZID=Europe/London:20250122T200000
DTSTAMP:20260420T184006
CREATED:20241104T152000Z
LAST-MODIFIED:20250121T170208Z
UID:8379-1737532800-1737576000@addington.co.uk
SUMMARY:Addington Equestrian Training Show
DESCRIPTION:Addington Equestrian are holding a training show within British Show jumping’s framework. \nFind the full details for the event linked below: \nSchedule \nEnter Here \nStart Lists \nTerms and Conditions \n  \n 
URL:https://addington.co.uk/event/addington-equestrian-training-show-7/
LOCATION:Addington Equestrian Centre
ATTACH;FMTTYPE=image/jpeg:https://addington.co.uk/wp-content/uploads/2022/09/1O0A7509-scaled.jpg
END:VEVENT
BEGIN:VEVENT
DTSTART;TZID=Europe/London:20250126T080000
DTEND;TZID=Europe/London:20250126T170000
DTSTAMP:20260420T184006
CREATED:20241202T220502Z
LAST-MODIFIED:20241202T220502Z
UID:8868-1737878400-1737910800@addington.co.uk
SUMMARY:Pony Club Show
DESCRIPTION:
URL:https://addington.co.uk/event/pony-club-show/
LOCATION:Addington Equestrian Centre
END:VEVENT
END:VCALENDAR