BEGIN:VCALENDAR
VERSION:2.0
PRODID:-//Addington - ECPv6.9.0//NONSGML v1.0//EN
CALSCALE:GREGORIAN
METHOD:PUBLISH
X-WR-CALNAME:Addington
X-ORIGINAL-URL:https://addington.co.uk
X-WR-CALDESC:Events for Addington
REFRESH-INTERVAL;VALUE=DURATION:PT1H
X-Robots-Tag:noindex
X-PUBLISHED-TTL:PT1H
BEGIN:VTIMEZONE
TZID:Europe/London
BEGIN:DAYLIGHT
TZOFFSETFROM:+0000
TZOFFSETTO:+0100
TZNAME:BST
DTSTART:20260329T010000
END:DAYLIGHT
BEGIN:STANDARD
TZOFFSETFROM:+0100
TZOFFSETTO:+0000
TZNAME:GMT
DTSTART:20261025T010000
END:STANDARD
END:VTIMEZONE
BEGIN:VEVENT
DTSTART;VALUE=DATE:20260424
DTEND;VALUE=DATE:20260427
DTSTAMP:20260424T185530
CREATED:20251214T111827Z
LAST-MODIFIED:20260421T224905Z
UID:11476-1776988800-1777247999@addington.co.uk
SUMMARY:Addington BD Premier League
DESCRIPTION:Please view schedule via this link \nEntries are open via Equipe here\nEntries close Friday 10th April. \nStable bookings via Equipe here \nTimes will be available here Tuesday 21st April from 6pm \nTerms & conditions
URL:https://addington.co.uk/event/addington-bd-premier-league/
LOCATION:Addington Equestrian Centre
ORGANIZER;CN="Addington Equestrian":MAILTO:info@showdirect.co.uk
END:VEVENT
BEGIN:VEVENT
DTSTART;VALUE=DATE:20260424
DTEND;VALUE=DATE:20260427
DTSTAMP:20260424T185530
CREATED:20251214T111941Z
LAST-MODIFIED:20260421T224925Z
UID:11478-1776988800-1777247999@addington.co.uk
SUMMARY:British Dressage P - AM
DESCRIPTION:Schedule available to view here \nEntries open and can be made via Equipe here\nEntries close on Friday 10 April \nStables can be  booked through Equipe here \nTimes will be available here Tuesday 21st April from 6pm \nTerms & conditions
URL:https://addington.co.uk/event/british-dressage-p-am/
LOCATION:Addington Equestrian Centre
ORGANIZER;CN="Addington Equestrian":MAILTO:info@showdirect.co.uk
END:VEVENT
END:VCALENDAR